BEGIN:VCALENDAR
VERSION:2.0
PRODID:-//Office of the Auditor-General - ECPv6.15.17//NONSGML v1.0//EN
CALSCALE:GREGORIAN
METHOD:PUBLISH
X-ORIGINAL-URL:https://www.oagkenya.go.ke
X-WR-CALDESC:Events for Office of the Auditor-General
REFRESH-INTERVAL;VALUE=DURATION:PT1H
X-Robots-Tag:noindex
X-PUBLISHED-TTL:PT1H
BEGIN:VTIMEZONE
TZID:Europe/Moscow
BEGIN:STANDARD
TZOFFSETFROM:+0300
TZOFFSETTO:+0300
TZNAME:MSK
DTSTART:20200101T000000
END:STANDARD
END:VTIMEZONE
BEGIN:VEVENT
DTSTART;TZID=Europe/Moscow:20211025T100000
DTEND;TZID=Europe/Moscow:20211025T110000
DTSTAMP:20260422T142255
CREATED:20211026T102750Z
LAST-MODIFIED:20211101T102408Z
UID:9121-1635156000-1635159600@www.oagkenya.go.ke
SUMMARY:Discussions on auditing extractive industries
DESCRIPTION:
URL:https://www.oagkenya.go.ke/event/discussions-on-auditing-extractive-industries/
LOCATION:Anniversary Towers\, Nairobi
CATEGORIES:News
ATTACH;FMTTYPE=image/jpeg:https://www.oagkenya.go.ke/wp-content/uploads/2021/10/Discussions-on-Auditing-extractive-industries.jpg
END:VEVENT
END:VCALENDAR