BEGIN:VCALENDAR
VERSION:2.0
PRODID:-//Office of the Auditor-General - ECPv6.15.17//NONSGML v1.0//EN
CALSCALE:GREGORIAN
METHOD:PUBLISH
X-ORIGINAL-URL:https://www.oagkenya.go.ke
X-WR-CALDESC:Events for Office of the Auditor-General
REFRESH-INTERVAL;VALUE=DURATION:PT1H
X-Robots-Tag:noindex
X-PUBLISHED-TTL:PT1H
BEGIN:VTIMEZONE
TZID:Europe/Moscow
BEGIN:STANDARD
TZOFFSETFROM:+0300
TZOFFSETTO:+0300
TZNAME:MSK
DTSTART:20200101T000000
END:STANDARD
END:VTIMEZONE
BEGIN:VEVENT
DTSTART;VALUE=DATE:20211217
DTEND;VALUE=DATE:20211218
DTSTAMP:20260422T102001
CREATED:20211221T190619Z
LAST-MODIFIED:20211221T191533Z
UID:9837-1639699200-1639785599@www.oagkenya.go.ke
SUMMARY:OAG Staff participate in CSR activity
DESCRIPTION:
URL:https://www.oagkenya.go.ke/event/oag-staff-participate-in-csr-activity/
CATEGORIES:News
ATTACH;FMTTYPE=image/jpeg:https://www.oagkenya.go.ke/wp-content/uploads/2021/12/IMG_2110-scaled.jpg
END:VEVENT
END:VCALENDAR