BEGIN:VCALENDAR
VERSION:2.0
PRODID:-//Office of the Auditor-General - ECPv6.15.17//NONSGML v1.0//EN
CALSCALE:GREGORIAN
METHOD:PUBLISH
X-WR-CALNAME:Office of the Auditor-General
X-ORIGINAL-URL:https://www.oagkenya.go.ke
X-WR-CALDESC:Events for Office of the Auditor-General
REFRESH-INTERVAL;VALUE=DURATION:PT1H
X-Robots-Tag:noindex
X-PUBLISHED-TTL:PT1H
BEGIN:VTIMEZONE
TZID:Europe/Moscow
BEGIN:STANDARD
TZOFFSETFROM:+0300
TZOFFSETTO:+0300
TZNAME:MSK
DTSTART:20210101T000000
END:STANDARD
END:VTIMEZONE
BEGIN:VEVENT
DTSTART;TZID=Europe/Moscow:20220126T000000
DTEND;TZID=Europe/Moscow:20250126T000000
DTSTAMP:20260421T014613
CREATED:20220126T152334Z
LAST-MODIFIED:20240312T074111Z
UID:10209-1643155200-1737849600@www.oagkenya.go.ke
SUMMARY:OAG launches Five Year Strategic Plan
DESCRIPTION:
URL:https://www.oagkenya.go.ke/event/oag-launches-five-year-strategic-plan/
CATEGORIES:News
ATTACH;FMTTYPE=image/jpeg:https://www.oagkenya.go.ke/wp-content/uploads/2022/01/SP1-scaled.jpg
END:VEVENT
BEGIN:VEVENT
DTSTART;TZID=Europe/Moscow:20231029T080000
DTEND;TZID=Europe/Moscow:20261231T170000
DTSTAMP:20260421T014613
CREATED:20240315T070505Z
LAST-MODIFIED:20241125T113150Z
UID:17908-1698566400-1798736400@www.oagkenya.go.ke
SUMMARY:OAG Staff warming up for the Stanchart Marathon
DESCRIPTION:
URL:https://www.oagkenya.go.ke/event/oag-staff-warming-up-for-the-stanchart-marathon/
CATEGORIES:News
ATTACH;FMTTYPE=image/jpeg:https://www.oagkenya.go.ke/wp-content/uploads/2024/03/OAG-Staff-warming-up-for-the-Stanchart-Marathon.jpg
END:VEVENT
BEGIN:VEVENT
DTSTART;TZID=Europe/Moscow:20231113T080000
DTEND;TZID=Europe/Moscow:20261231T080000
DTSTAMP:20260421T014613
CREATED:20240314T165524Z
LAST-MODIFIED:20241125T113029Z
UID:17830-1699862400-1798704000@www.oagkenya.go.ke
SUMMARY:The AG and Hon. Ndindi Nyoro during the National Tree Growing Day
DESCRIPTION:
URL:https://www.oagkenya.go.ke/event/the-ag-and-hon-ndindi-nyoro-during-the-national-tree-planting-day/
CATEGORIES:News
ATTACH;FMTTYPE=image/jpeg:https://www.oagkenya.go.ke/wp-content/uploads/2024/03/The-AG-and-Hon.-Ndindi-Nyoro-during-the-national-tree-planting-day.jpg
END:VEVENT
END:VCALENDAR