BEGIN:VCALENDAR
VERSION:2.0
PRODID:-//Office of the Auditor-General - ECPv6.15.17//NONSGML v1.0//EN
CALSCALE:GREGORIAN
METHOD:PUBLISH
X-WR-CALNAME:Office of the Auditor-General
X-ORIGINAL-URL:https://www.oagkenya.go.ke
X-WR-CALDESC:Events for Office of the Auditor-General
REFRESH-INTERVAL;VALUE=DURATION:PT1H
X-Robots-Tag:noindex
X-PUBLISHED-TTL:PT1H
BEGIN:VTIMEZONE
TZID:Europe/Moscow
BEGIN:STANDARD
TZOFFSETFROM:+0300
TZOFFSETTO:+0300
TZNAME:MSK
DTSTART:20230101T000000
END:STANDARD
END:VTIMEZONE
BEGIN:VTIMEZONE
TZID:Africa/Nairobi
BEGIN:STANDARD
TZOFFSETFROM:+0300
TZOFFSETTO:+0300
TZNAME:EAT
DTSTART:20240101T000000
END:STANDARD
END:VTIMEZONE
BEGIN:VEVENT
DTSTART;TZID=Europe/Moscow:20240422T080000
DTEND;TZID=Europe/Moscow:20261231T112000
DTSTAMP:20260423T010709
CREATED:20240424T104021Z
LAST-MODIFIED:20241125T112143Z
UID:18319-1713772800-1798716000@www.oagkenya.go.ke
SUMMARY:The AG receives Mr. Felix Koskei\, the Chief Guest at the Annual Planning Conference
DESCRIPTION:
URL:https://www.oagkenya.go.ke/event/the-ag-receives-mr-felix-koskei-the-chief-guest-at-the-annual-planning-conference/
CATEGORIES:News
ATTACH;FMTTYPE=image/jpeg:https://www.oagkenya.go.ke/wp-content/uploads/2024/04/Auditor-General-FCPA-Nancy-Gathungu-receiving-the-Chief-Guest-Mr.-Felix-Koskei.jpg
END:VEVENT
BEGIN:VEVENT
DTSTART;TZID=Europe/Moscow:20251024T080000
DTEND;TZID=Europe/Moscow:20261024T170000
DTSTAMP:20260423T010709
CREATED:20251024T121450Z
LAST-MODIFIED:20251024T121450Z
UID:21188-1761292800-1792861200@www.oagkenya.go.ke
SUMMARY:Auditor-General’s ISO Certification Sets Benchmark for Public Sector Information Security
DESCRIPTION:
URL:https://www.oagkenya.go.ke/event/auditor-generals-iso-certification-sets-benchmark-for-public-sector-information-security/
CATEGORIES:News
ATTACH;FMTTYPE=image/jpeg:https://www.oagkenya.go.ke/wp-content/uploads/2025/04/8G9A3861.jpg
END:VEVENT
BEGIN:VEVENT
DTSTART;TZID=Africa/Nairobi:20251030T080000
DTEND;TZID=Africa/Nairobi:20261030T170000
DTSTAMP:20260423T010709
CREATED:20251030T102838Z
LAST-MODIFIED:20251030T102838Z
UID:21213-1761811200-1793379600@www.oagkenya.go.ke
SUMMARY:OAG staff participate in the 2025 StanChart Marathon
DESCRIPTION:
URL:https://www.oagkenya.go.ke/event/oag-staff-participate-in-the-2025-stanchart-marathon/
CATEGORIES:News
ATTACH;FMTTYPE=image/jpeg:https://www.oagkenya.go.ke/wp-content/uploads/2025/10/OAG-staff-parcipate-in-the-2025-Stanchart-Marathon-1.jpg
END:VEVENT
BEGIN:VEVENT
DTSTART;TZID=Africa/Nairobi:20251030T080000
DTEND;TZID=Africa/Nairobi:20261030T170000
DTSTAMP:20260423T010709
CREATED:20251030T103012Z
LAST-MODIFIED:20251030T103012Z
UID:21215-1761811200-1793379600@www.oagkenya.go.ke
SUMMARY:OAG staff participate in the 2025 Devolution Conference
DESCRIPTION:
URL:https://www.oagkenya.go.ke/event/oag-staff-participate-in-the-2025-devolution-conference/
CATEGORIES:News
ATTACH;FMTTYPE=image/jpeg:https://www.oagkenya.go.ke/wp-content/uploads/2025/10/8G9A6344-scaled.jpg
END:VEVENT
BEGIN:VEVENT
DTSTART;TZID=Africa/Nairobi:20251030T080000
DTEND;TZID=Africa/Nairobi:20261030T170000
DTSTAMP:20260423T010709
CREATED:20251030T104256Z
LAST-MODIFIED:20251030T104256Z
UID:21219-1761811200-1793379600@www.oagkenya.go.ke
SUMMARY:AG hosts the Women In Leadership Initiative Academy graduation
DESCRIPTION:
URL:https://www.oagkenya.go.ke/event/ag-hosts-the-women-in-leadership-initiative-academy-graduation/
CATEGORIES:News
ATTACH;FMTTYPE=image/jpeg:https://www.oagkenya.go.ke/wp-content/uploads/2025/10/AG-hosts-the-Women-In-Leadership-Initiative-Academy-graduation-scaled.jpg
END:VEVENT
BEGIN:VEVENT
DTSTART;TZID=Africa/Nairobi:20251031T080000
DTEND;TZID=Africa/Nairobi:20261031T170000
DTSTAMP:20260423T010709
CREATED:20251031T102454Z
LAST-MODIFIED:20251031T110132Z
UID:21223-1761897600-1793466000@www.oagkenya.go.ke
SUMMARY:Auditors inspecting projects
DESCRIPTION:
URL:https://www.oagkenya.go.ke/event/auditors-inspecting-projects/
CATEGORIES:News
ATTACH;FMTTYPE=image/jpeg:https://www.oagkenya.go.ke/wp-content/uploads/2025/10/A-visit-to-.One-of-the-Projects-being-audited-by-Garissa-Regional-Office-scaled.jpg
END:VEVENT
BEGIN:VEVENT
DTSTART;TZID=Africa/Nairobi:20251031T080000
DTEND;TZID=Africa/Nairobi:20261031T170000
DTSTAMP:20260423T010709
CREATED:20251031T102739Z
LAST-MODIFIED:20251031T105214Z
UID:21226-1761897600-1793466000@www.oagkenya.go.ke
SUMMARY:OAG staff engage stakeholders
DESCRIPTION:
URL:https://www.oagkenya.go.ke/event/oag-staff-engage-stakeholders/
CATEGORIES:News
ATTACH;FMTTYPE=image/jpeg:https://www.oagkenya.go.ke/wp-content/uploads/2025/10/FB_IMG_1761894053282.jpg
END:VEVENT
BEGIN:VEVENT
DTSTART;TZID=Africa/Nairobi:20251106T080000
DTEND;TZID=Africa/Nairobi:20251106T170000
DTSTAMP:20260423T010709
CREATED:20251106T091512Z
LAST-MODIFIED:20251106T091512Z
UID:21229-1762416000-1762448400@www.oagkenya.go.ke
SUMMARY:Auditors inspecting a county project
DESCRIPTION:
URL:https://www.oagkenya.go.ke/event/auditors-inspecting-a-county-project/
CATEGORIES:News
ATTACH;FMTTYPE=image/jpeg:https://www.oagkenya.go.ke/wp-content/uploads/2025/11/One-of-the-county-projects-audited-by-the-Office-scaled.jpg
END:VEVENT
END:VCALENDAR